Package: UCSC.utils Version: 1.5.0 Command: chmod a+r UCSC.utils -R && F:\biocbuild\bbs-3.22-bioc\R\bin\R.exe CMD build --keep-empty-dirs --no-resave-data UCSC.utils StartedAt: 2025-08-14 23:54:02 -0400 (Thu, 14 Aug 2025) EndedAt: 2025-08-14 23:54:22 -0400 (Thu, 14 Aug 2025) EllapsedTime: 20.1 seconds RetCode: 0 Status: OK PackageFile: UCSC.utils_1.5.0.tar.gz PackageFileSize: 230.6 KiB