Package: UCSC.utils Version: 1.7.0 Command: /home/biocbuild/bbs-3.23-bioc/R/bin/R CMD INSTALL UCSC.utils StartedAt: 2025-11-20 15:12:04 -0500 (Thu, 20 Nov 2025) EndedAt: 2025-11-20 15:12:08 -0500 (Thu, 20 Nov 2025) EllapsedTime: 4.3 seconds RetCode: 0 Status: OK