Package: UCSC.utils Version: 1.7.0 Command: /home/biocbuild/bbs-3.23-bioc/R/bin/R CMD check --install=check:UCSC.utils.install-out.txt --library=/home/biocbuild/bbs-3.23-bioc/R/site-library --timings UCSC.utils_1.7.0.tar.gz StartedAt: 2025-11-21 05:05:00 -0500 (Fri, 21 Nov 2025) EndedAt: 2025-11-21 05:06:04 -0500 (Fri, 21 Nov 2025) EllapsedTime: 64.1 seconds RetCode: 0 Status: OK CheckDir: UCSC.utils.Rcheck Warnings: 0