Package: TurboNorm Version: 1.57.0 Command: /home/biocbuild/R/R/bin/R CMD INSTALL TurboNorm StartedAt: 2025-10-06 20:24:57 -0000 (Mon, 06 Oct 2025) EndedAt: 2025-10-06 20:25:03 -0000 (Mon, 06 Oct 2025) EllapsedTime: 6.6 seconds RetCode: 0 Status: OK