Package: TurboNorm Version: 1.57.0 Command: /home/biocbuild/R/R/bin/R CMD build --keep-empty-dirs --no-resave-data TurboNorm StartedAt: 2025-10-07 03:42:28 -0000 (Tue, 07 Oct 2025) EndedAt: 2025-10-07 03:42:42 -0000 (Tue, 07 Oct 2025) EllapsedTime: 14.0 seconds RetCode: 0 Status: OK PackageFile: TurboNorm_1.57.0.tar.gz PackageFileSize: 2.011 MiB