Package: TurboNorm Version: 1.59.0 Command: /home/biocbuild/bbs-3.23-bioc/R/bin/R CMD INSTALL TurboNorm StartedAt: 2025-11-20 15:12:59 -0500 (Thu, 20 Nov 2025) EndedAt: 2025-11-20 15:13:04 -0500 (Thu, 20 Nov 2025) EllapsedTime: 5.0 seconds RetCode: 0 Status: OK