Package: TurboNorm Version: 1.59.0 Command: /home/biocbuild/bbs-3.23-bioc/R/bin/R CMD check --install=check:TurboNorm.install-out.txt --library=/home/biocbuild/bbs-3.23-bioc/R/site-library --timings TurboNorm_1.59.0.tar.gz StartedAt: 2025-11-21 05:03:52 -0500 (Fri, 21 Nov 2025) EndedAt: 2025-11-21 05:05:00 -0500 (Fri, 21 Nov 2025) EllapsedTime: 68.3 seconds RetCode: 0 Status: OK CheckDir: TurboNorm.Rcheck Warnings: 0