Package: TurboNorm Version: 1.59.0 Command: /home/biocbuild/bbs-3.23-bioc/R/bin/R CMD build --keep-empty-dirs --no-resave-data TurboNorm StartedAt: 2025-11-20 20:37:48 -0500 (Thu, 20 Nov 2025) EndedAt: 2025-11-20 20:38:01 -0500 (Thu, 20 Nov 2025) EllapsedTime: 13.0 seconds RetCode: 0 Status: OK PackageFile: TurboNorm_1.59.0.tar.gz PackageFileSize: 2.021 MiB