Package: Trendy Version: 1.33.0 Command: /home/biocbuild/bbs-3.23-bioc/R/bin/R CMD INSTALL Trendy StartedAt: 2025-11-06 15:55:33 -0500 (Thu, 06 Nov 2025) EndedAt: 2025-11-06 15:55:57 -0500 (Thu, 06 Nov 2025) EllapsedTime: 23.4 seconds RetCode: 0 Status: OK