Package: Trendy Version: 1.33.0 Command: /home/biocbuild/bbs-3.23-bioc/R/bin/R CMD build --keep-empty-dirs --no-resave-data Trendy StartedAt: 2025-11-07 20:31:53 -0500 (Fri, 07 Nov 2025) EndedAt: 2025-11-07 20:32:57 -0500 (Fri, 07 Nov 2025) EllapsedTime: 64.1 seconds RetCode: 0 Status: OK PackageFile: Trendy_1.33.0.tar.gz PackageFileSize: 1.084 MiB