Package: Trendy Version: 1.31.0 Command: /Library/Frameworks/R.framework/Resources/bin/R CMD INSTALL Trendy StartedAt: 2025-10-22 15:28:48 -0400 (Wed, 22 Oct 2025) EndedAt: 2025-10-22 15:28:57 -0400 (Wed, 22 Oct 2025) EllapsedTime: 9.6 seconds RetCode: 0 Status: OK