Package: Trendy Version: 1.31.0 Command: rm -rf Trendy.buildbin-libdir && mkdir Trendy.buildbin-libdir && /Users/biocbuild/BBS/utils/build-universal.sh Trendy_1.31.0.tar.gz /Library/Frameworks/R.framework/Resources/bin/R Trendy.buildbin-libdir StartedAt: 2025-10-22 23:20:37 -0400 (Wed, 22 Oct 2025) EndedAt: 2025-10-22 23:20:48 -0400 (Wed, 22 Oct 2025) EllapsedTime: 11.2 seconds RetCode: 0 Status: OK PackageFile: Trendy_1.31.0.tgz PackageFileSize: 769.2 KiB