Package: TreeSummarizedExperiment Version: 2.19.0 Command: /home/biocbuild/bbs-3.23-bioc/R/bin/R CMD INSTALL TreeSummarizedExperiment StartedAt: 2025-11-03 15:23:22 -0500 (Mon, 03 Nov 2025) EndedAt: 2025-11-03 15:23:53 -0500 (Mon, 03 Nov 2025) EllapsedTime: 30.9 seconds RetCode: 0 Status: OK