Package: TreeSummarizedExperiment Version: 2.19.0 Command: /home/biocbuild/bbs-3.23-bioc/R/bin/R CMD check --install=check:TreeSummarizedExperiment.install-out.txt --library=/home/biocbuild/bbs-3.23-bioc/R/site-library --timings TreeSummarizedExperiment_2.19.0.tar.gz StartedAt: 2025-11-05 04:46:54 -0500 (Wed, 05 Nov 2025) EndedAt: 2025-11-05 04:53:03 -0500 (Wed, 05 Nov 2025) EllapsedTime: 368.6 seconds RetCode: 0 Status: OK CheckDir: TreeSummarizedExperiment.Rcheck Warnings: 0