Package: TreeSummarizedExperiment Version: 2.19.0 Command: /home/biocbuild/bbs-3.23-bioc/R/bin/R CMD build --keep-empty-dirs --no-resave-data TreeSummarizedExperiment StartedAt: 2025-11-03 20:26:00 -0500 (Mon, 03 Nov 2025) EndedAt: 2025-11-03 20:26:57 -0500 (Mon, 03 Nov 2025) EllapsedTime: 57.1 seconds RetCode: 0 Status: OK PackageFile: TreeSummarizedExperiment_2.19.0.tar.gz PackageFileSize: 1.108 MiB