Package: TreeSummarizedExperiment Version: 2.17.1 Command: /Library/Frameworks/R.framework/Resources/bin/R CMD check --install=check:TreeSummarizedExperiment.install-out.txt --library=/Library/Frameworks/R.framework/Resources/library --no-vignettes --timings TreeSummarizedExperiment_2.17.1.tar.gz StartedAt: 2025-10-11 01:44:59 -0400 (Sat, 11 Oct 2025) EndedAt: 2025-10-11 01:52:22 -0400 (Sat, 11 Oct 2025) EllapsedTime: 442.9 seconds RetCode: 0 Status: OK CheckDir: TreeSummarizedExperiment.Rcheck Warnings: 0