Package: TreeAndLeaf Version: 1.21.0 Command: rm -rf TreeAndLeaf.buildbin-libdir && mkdir TreeAndLeaf.buildbin-libdir && F:\biocbuild\bbs-3.22-bioc\R\bin\R.exe CMD INSTALL --build --library=TreeAndLeaf.buildbin-libdir TreeAndLeaf_1.21.0.tar.gz StartedAt: 2025-08-15 11:31:40 -0400 (Fri, 15 Aug 2025) EndedAt: 2025-08-15 11:31:49 -0400 (Fri, 15 Aug 2025) EllapsedTime: 9.0 seconds RetCode: 0 Status: OK PackageFile: TreeAndLeaf_1.21.0.zip PackageFileSize: 3.134 MiB