Package: TreeAndLeaf Version: 1.23.0 Command: /home/biocbuild/bbs-3.23-bioc/R/bin/R CMD INSTALL TreeAndLeaf StartedAt: 2025-10-31 15:14:49 -0400 (Fri, 31 Oct 2025) EndedAt: 2025-10-31 15:15:23 -0400 (Fri, 31 Oct 2025) EllapsedTime: 33.7 seconds RetCode: 0 Status: OK