Package: TreeAndLeaf Version: 1.23.0 Command: /home/biocbuild/bbs-3.23-bioc/R/bin/R CMD check --install=check:TreeAndLeaf.install-out.txt --library=/home/biocbuild/bbs-3.23-bioc/R/site-library --timings TreeAndLeaf_1.23.0.tar.gz StartedAt: 2025-11-06 04:52:29 -0500 (Thu, 06 Nov 2025) EndedAt: 2025-11-06 04:53:15 -0500 (Thu, 06 Nov 2025) EllapsedTime: 46.1 seconds RetCode: 0 Status: OK CheckDir: TreeAndLeaf.Rcheck Warnings: 0