Package: TrajectoryUtils Version: 1.17.0 Command: /home/biocbuild/R/R/bin/R CMD check --install=check:TrajectoryUtils.install-out.txt --library=/home/biocbuild/R/R/site-library --no-vignettes --timings TrajectoryUtils_1.17.0.tar.gz StartedAt: 2025-10-14 13:44:28 -0000 (Tue, 14 Oct 2025) EndedAt: 2025-10-14 13:48:45 -0000 (Tue, 14 Oct 2025) EllapsedTime: 257.5 seconds RetCode: 0 Status: OK CheckDir: TrajectoryUtils.Rcheck Warnings: 0