Package: TrajectoryUtils Version: 1.17.0 Command: /Library/Frameworks/R.framework/Resources/bin/R CMD INSTALL TrajectoryUtils StartedAt: 2025-10-03 15:26:08 -0400 (Fri, 03 Oct 2025) EndedAt: 2025-10-03 15:26:42 -0400 (Fri, 03 Oct 2025) EllapsedTime: 33.4 seconds RetCode: 0 Status: OK