Package: TrajectoryUtils Version: 1.17.0 Command: /Library/Frameworks/R.framework/Resources/bin/R CMD check --install=check:TrajectoryUtils.install-out.txt --library=/Library/Frameworks/R.framework/Resources/library --no-vignettes --timings TrajectoryUtils_1.17.0.tar.gz StartedAt: 2025-10-04 01:19:37 -0400 (Sat, 04 Oct 2025) EndedAt: 2025-10-04 01:22:52 -0400 (Sat, 04 Oct 2025) EllapsedTime: 195.0 seconds RetCode: 0 Status: OK CheckDir: TrajectoryUtils.Rcheck Warnings: 0