Package: TrajectoryGeometry Version: 1.19.0 Command: /home/biocbuild/bbs-3.23-bioc/R/bin/R CMD INSTALL TrajectoryGeometry StartedAt: 2025-11-02 15:14:11 -0500 (Sun, 02 Nov 2025) EndedAt: 2025-11-02 15:14:23 -0500 (Sun, 02 Nov 2025) EllapsedTime: 11.9 seconds RetCode: 0 Status: OK