Package: TrIdent Version: 1.1.5 Command: /home/biocbuild/bbs-3.22-bioc/R/bin/R CMD check --install=check:TrIdent.install-out.txt --library=/home/biocbuild/bbs-3.22-bioc/R/site-library --timings TrIdent_1.1.5.tar.gz StartedAt: 2025-10-28 05:07:23 -0400 (Tue, 28 Oct 2025) EndedAt: 2025-10-28 05:09:05 -0400 (Tue, 28 Oct 2025) EllapsedTime: 102.1 seconds RetCode: 0 Status: OK CheckDir: TrIdent.Rcheck Warnings: 0