Package: TrIdent Version: 1.3.0 Command: /home/biocbuild/bbs-3.23-bioc/R/bin/R CMD INSTALL TrIdent StartedAt: 2025-11-05 15:16:58 -0500 (Wed, 05 Nov 2025) EndedAt: 2025-11-05 15:17:16 -0500 (Wed, 05 Nov 2025) EllapsedTime: 18.4 seconds RetCode: 0 Status: OK