Package: TrIdent Version: 1.3.0 Command: /home/biocbuild/bbs-3.23-bioc/R/bin/R CMD build --keep-empty-dirs --no-resave-data TrIdent StartedAt: 2025-11-04 20:29:30 -0500 (Tue, 04 Nov 2025) EndedAt: 2025-11-04 20:30:13 -0500 (Tue, 04 Nov 2025) EllapsedTime: 43.0 seconds RetCode: 0 Status: OK PackageFile: TrIdent_1.3.0.tar.gz PackageFileSize: 1.61 MiB