Package: TrIdent Version: 1.1.4 Command: /Library/Frameworks/R.framework/Resources/bin/R CMD INSTALL TrIdent StartedAt: 2025-10-10 15:17:33 -0400 (Fri, 10 Oct 2025) EndedAt: 2025-10-10 15:18:15 -0400 (Fri, 10 Oct 2025) EllapsedTime: 41.8 seconds RetCode: 0 Status: OK