Package: TrIdent Version: 1.1.4 Command: rm -rf TrIdent.buildbin-libdir && mkdir TrIdent.buildbin-libdir && /Users/biocbuild/BBS/utils/build-universal.sh TrIdent_1.1.4.tar.gz /Library/Frameworks/R.framework/Resources/bin/R TrIdent.buildbin-libdir StartedAt: 2025-10-11 02:59:19 -0400 (Sat, 11 Oct 2025) EndedAt: 2025-10-11 02:59:35 -0400 (Sat, 11 Oct 2025) EllapsedTime: 16.3 seconds RetCode: 0 Status: OK PackageFile: TrIdent_1.1.4.tgz PackageFileSize: 3.2 MiB