Package: TrIdent Version: 1.1.5 Maintainer: Jessie Maier MaintainerEmail: jlmaier at ncsu.edu git_url: https://git.bioconductor.org/packages/TrIdent git_branch: devel git_last_commit: d3f46dd git_last_commit_date: 2025-10-12 20:30:09 -0400 (Sun, 12 Oct 2025)