Package: ToxicoGx Version: 2.15.0 Command: /home/biocbuild/bbs-3.23-bioc/R/bin/R CMD INSTALL ToxicoGx StartedAt: 2025-11-20 15:23:42 -0500 (Thu, 20 Nov 2025) EndedAt: 2025-11-20 15:24:20 -0500 (Thu, 20 Nov 2025) EllapsedTime: 38.0 seconds RetCode: 0 Status: OK