Package: ToxicoGx Version: 2.15.0 Command: /home/biocbuild/bbs-3.23-bioc/R/bin/R CMD build --keep-empty-dirs --no-resave-data ToxicoGx StartedAt: 2025-11-20 20:33:52 -0500 (Thu, 20 Nov 2025) EndedAt: 2025-11-20 20:34:44 -0500 (Thu, 20 Nov 2025) EllapsedTime: 52.1 seconds RetCode: 0 Status: OK PackageFile: ToxicoGx_2.15.0.tar.gz PackageFileSize: 3.929 MiB