Package: ToxicoGx Version: 2.14.0 Command: rm -rf ToxicoGx.buildbin-libdir && mkdir ToxicoGx.buildbin-libdir && /Users/biocbuild/BBS/utils/build-universal.sh ToxicoGx_2.14.0.tar.gz /Library/Frameworks/R.framework/Resources/bin/R ToxicoGx.buildbin-libdir StartedAt: 2025-10-30 05:43:57 -0400 (Thu, 30 Oct 2025) EndedAt: 2025-10-30 05:44:13 -0400 (Thu, 30 Oct 2025) EllapsedTime: 16.3 seconds RetCode: 0 Status: OK PackageFile: ToxicoGx_2.14.0.tgz PackageFileSize: 4.415 MiB