Package: TnT Version: 1.33.0 Command: /home/biocbuild/bbs-3.23-bioc/R/bin/R CMD build --keep-empty-dirs --no-resave-data TnT StartedAt: 2025-11-20 20:33:16 -0500 (Thu, 20 Nov 2025) EndedAt: 2025-11-20 20:33:35 -0500 (Thu, 20 Nov 2025) EllapsedTime: 19.0 seconds RetCode: 0 Status: OK PackageFile: TnT_1.33.0.tar.gz PackageFileSize: 230.5 KiB