Package: TnT Version: 1.33.0 Command: /Library/Frameworks/R.framework/Resources/bin/R CMD INSTALL TnT StartedAt: 2025-11-21 15:21:51 -0500 (Fri, 21 Nov 2025) EndedAt: 2025-11-21 15:22:12 -0500 (Fri, 21 Nov 2025) EllapsedTime: 21.3 seconds RetCode: 0 Status: OK