Package: TnT Version: 1.33.0 Command: /Library/Frameworks/R.framework/Resources/bin/R CMD build --keep-empty-dirs --no-resave-data TnT StartedAt: 2025-11-20 19:01:50 -0500 (Thu, 20 Nov 2025) EndedAt: 2025-11-20 19:02:14 -0500 (Thu, 20 Nov 2025) EllapsedTime: 24.1 seconds RetCode: 0 Status: OK PackageFile: TnT_1.33.0.tar.gz PackageFileSize: 230.5 KiB