Package: TnT Version: 1.33.0 Command: rm -rf TnT.buildbin-libdir && mkdir TnT.buildbin-libdir && /Users/biocbuild/BBS/utils/build-universal.sh TnT_1.33.0.tar.gz /Library/Frameworks/R.framework/Resources/bin/R TnT.buildbin-libdir StartedAt: 2025-11-21 02:02:02 -0500 (Fri, 21 Nov 2025) EndedAt: 2025-11-21 02:02:23 -0500 (Fri, 21 Nov 2025) EllapsedTime: 20.8 seconds RetCode: 0 Status: OK PackageFile: TnT_1.33.0.tgz PackageFileSize: 527.5 KiB