Package: TitanCNA Version: 1.47.1 Command: /home/biocbuild/bbs-3.23-bioc/R/bin/R CMD build --keep-empty-dirs --no-resave-data TitanCNA StartedAt: 2025-10-23 00:50:18 -0000 (Thu, 23 Oct 2025) EndedAt: 2025-10-23 00:51:34 -0000 (Thu, 23 Oct 2025) EllapsedTime: 76.1 seconds RetCode: 1 Status: ERROR PackageFile: None PackageFileSize: NA