Package: TitanCNA Version: 1.47.1 Command: /Library/Frameworks/R.framework/Resources/bin/R CMD build --keep-empty-dirs --no-resave-data TitanCNA StartedAt: 2025-10-22 18:59:31 -0400 (Wed, 22 Oct 2025) EndedAt: 2025-10-22 19:00:58 -0400 (Wed, 22 Oct 2025) EllapsedTime: 86.9 seconds RetCode: 1 Status: ERROR PackageFile: None PackageFileSize: NA