Package: TitanCNA Version: 1.47.1 Command: /Library/Frameworks/R.framework/Resources/bin/R CMD INSTALL TitanCNA StartedAt: 2025-10-14 15:24:06 -0400 (Tue, 14 Oct 2025) EndedAt: 2025-10-14 15:24:24 -0400 (Tue, 14 Oct 2025) EllapsedTime: 17.5 seconds RetCode: 0 Status: OK