Package: TitanCNA Version: 1.47.1 Command: /Library/Frameworks/R.framework/Resources/bin/R CMD build --keep-empty-dirs --no-resave-data TitanCNA StartedAt: 2025-10-14 17:57:25 -0400 (Tue, 14 Oct 2025) EndedAt: 2025-10-14 17:58:02 -0400 (Tue, 14 Oct 2025) EllapsedTime: 36.4 seconds RetCode: 1 Status: ERROR PackageFile: None PackageFileSize: NA