Package: TissueEnrich Version: 1.29.0 Command: /home/biocbuild/R/R/bin/R CMD INSTALL TissueEnrich StartedAt: 2025-10-13 21:07:01 -0000 (Mon, 13 Oct 2025) EndedAt: 2025-10-13 21:07:40 -0000 (Mon, 13 Oct 2025) EllapsedTime: 38.9 seconds RetCode: 0 Status: OK