Package: TissueEnrich Version: 1.29.0 Command: /home/biocbuild/R/R/bin/R CMD build --keep-empty-dirs --no-resave-data TissueEnrich StartedAt: 2025-10-14 04:13:11 -0000 (Tue, 14 Oct 2025) EndedAt: 2025-10-14 04:14:17 -0000 (Tue, 14 Oct 2025) EllapsedTime: 66.0 seconds RetCode: 0 Status: OK PackageFile: TissueEnrich_1.29.0.tar.gz PackageFileSize: 3.384 MiB