Package: TissueEnrich Version: 1.29.0 Command: /home/biocbuild/bbs-3.22-bioc/R/bin/R CMD check --install=check:TissueEnrich.install-out.txt --library=/home/biocbuild/bbs-3.22-bioc/R/site-library --timings TissueEnrich_1.29.0.tar.gz StartedAt: 2025-10-11 05:19:07 -0400 (Sat, 11 Oct 2025) EndedAt: 2025-10-11 05:23:14 -0400 (Sat, 11 Oct 2025) EllapsedTime: 247.3 seconds RetCode: 0 Status: OK CheckDir: TissueEnrich.Rcheck Warnings: 0