Package: TissueEnrich Version: 1.31.0 Command: /home/biocbuild/bbs-3.23-bioc/R/bin/R CMD INSTALL TissueEnrich StartedAt: 2025-11-05 15:37:32 -0500 (Wed, 05 Nov 2025) EndedAt: 2025-11-05 15:38:02 -0500 (Wed, 05 Nov 2025) EllapsedTime: 30.0 seconds RetCode: 0 Status: OK