Package: TissueEnrich Version: 1.31.0 Command: /home/biocbuild/bbs-3.23-bioc/R/bin/R CMD check --install=check:TissueEnrich.install-out.txt --library=/home/biocbuild/bbs-3.23-bioc/R/site-library --timings TissueEnrich_1.31.0.tar.gz StartedAt: 2025-11-17 04:56:38 -0500 (Mon, 17 Nov 2025) EndedAt: 2025-11-17 05:00:48 -0500 (Mon, 17 Nov 2025) EllapsedTime: 249.4 seconds RetCode: 0 Status: OK CheckDir: TissueEnrich.Rcheck Warnings: 0