Package: TissueEnrich Version: 1.31.0 Command: /home/biocbuild/bbs-3.23-bioc/R/bin/R CMD build --keep-empty-dirs --no-resave-data TissueEnrich StartedAt: 2025-11-05 20:32:26 -0500 (Wed, 05 Nov 2025) EndedAt: 2025-11-05 20:33:20 -0500 (Wed, 05 Nov 2025) EllapsedTime: 54.1 seconds RetCode: 0 Status: OK PackageFile: TissueEnrich_1.31.0.tar.gz PackageFileSize: 3.697 MiB