Package: TileDBArray Version: 1.21.0 Command: /home/biocbuild/bbs-3.23-bioc/R/bin/R CMD INSTALL TileDBArray StartedAt: 2025-11-03 15:15:18 -0500 (Mon, 03 Nov 2025) EndedAt: 2025-11-03 15:15:39 -0500 (Mon, 03 Nov 2025) EllapsedTime: 21.2 seconds RetCode: 0 Status: OK