Package: TileDBArray Version: 1.21.0 Command: /home/biocbuild/bbs-3.23-bioc/R/bin/R CMD check --install=check:TileDBArray.install-out.txt --library=/home/biocbuild/bbs-3.23-bioc/R/site-library --timings TileDBArray_1.21.0.tar.gz StartedAt: 2025-11-05 04:37:29 -0500 (Wed, 05 Nov 2025) EndedAt: 2025-11-05 04:40:00 -0500 (Wed, 05 Nov 2025) EllapsedTime: 150.2 seconds RetCode: 0 Status: OK CheckDir: TileDBArray.Rcheck Warnings: 0