Package: TaxSEA Version: 1.3.0 Command: /Library/Frameworks/R.framework/Resources/bin/R CMD INSTALL TaxSEA StartedAt: 2025-11-21 15:02:54 -0500 (Fri, 21 Nov 2025) EndedAt: 2025-11-21 15:03:01 -0500 (Fri, 21 Nov 2025) EllapsedTime: 7.6 seconds RetCode: 0 Status: OK