Package: TaxSEA Version: 1.3.0 Command: /Library/Frameworks/R.framework/Resources/bin/R CMD build --keep-empty-dirs --no-resave-data TaxSEA StartedAt: 2025-11-21 17:53:04 -0500 (Fri, 21 Nov 2025) EndedAt: 2025-11-21 17:53:11 -0500 (Fri, 21 Nov 2025) EllapsedTime: 7.1 seconds RetCode: 0 Status: OK PackageFile: TaxSEA_1.3.0.tar.gz PackageFileSize: 350.6 KiB